BEGIN:VCALENDAR
VERSION:2.0
PRODID:-//Idaho Commission on Aging - ECPv5.8.1//NONSGML v1.0//EN
CALSCALE:GREGORIAN
METHOD:PUBLISH
X-WR-CALNAME:Idaho Commission on Aging
X-ORIGINAL-URL:https://aging.idaho.gov
X-WR-CALDESC:Events for Idaho Commission on Aging
BEGIN:VTIMEZONE
TZID:UTC
BEGIN:STANDARD
TZOFFSETFROM:+0000
TZOFFSETTO:+0000
TZNAME:UTC
DTSTART:20210101T000000
END:STANDARD
END:VTIMEZONE
BEGIN:VEVENT
DTSTART;TZID=UTC:20210524T080000
DTEND;TZID=UTC:20210524T170000
DTSTAMP:20210811T141918
CREATED:20210601T161943Z
LAST-MODIFIED:20210524T163605Z
UID:7785-1621843200-1621875600@aging.idaho.gov
SUMMARY:Diabetes Self-Management Workshop (DSMP)
DESCRIPTION:Diabetes Self-Management Workshop \nSAMPLE
URL:https://aging.idaho.gov/event/diabetes-self-management-workshop-dsmp/
CATEGORIES:Chronic Pain Self-Management Workshop (CPSMP),Diabetes Self-Management Workshop (DSMP),Disease Prevention & Health Promotion Title IIID Workshops (DPHP_)
END:VEVENT
END:VCALENDAR