BEGIN:VCALENDAR
VERSION:2.0
PRODID:-//Idaho Commission on Aging - ECPv5.8.0//NONSGML v1.0//EN
CALSCALE:GREGORIAN
METHOD:PUBLISH
X-WR-CALNAME:Idaho Commission on Aging
X-ORIGINAL-URL:https://aging.idaho.gov
X-WR-CALDESC:Events for Idaho Commission on Aging
BEGIN:VTIMEZONE
TZID:UTC
BEGIN:STANDARD
TZOFFSETFROM:+0000
TZOFFSETTO:+0000
TZNAME:UTC
DTSTART:20210101T000000
END:STANDARD
END:VTIMEZONE
BEGIN:VEVENT
DTSTART;VALUE=DATE:20210501
DTEND;VALUE=DATE:20210601
DTSTAMP:20210728T033247
CREATED:20210511T162315Z
LAST-MODIFIED:20210511T162315Z
UID:7696-1619827200-1622505599@aging.idaho.gov
SUMMARY:May is Older Americans Month - Communities of Strength
DESCRIPTION:Older adults have built resilience and strength over their lives through successes\, failures\, joys\, and difficulties. Their stories and contributions help to support and inspire others. This OAM\, we will celebrate the strength of older adults and the Aging Network\, with special emphasis on the power of connection and engagement in building strong communities. \nThere are many things we all can do to nurture ourselves\, reinforce our strength\, and continue to thrive. Connecting with others is one of the most important—it plays a vital role in our health and well-being\, and in that of our communities. From finding joy in small things and sharing our stories\, to looking at the big picture and giving to others\, join in promoting the ways we are connected and strong. \nFor more information please visit: https://acl.gov/oam/2021/older-americans-month-2021 \nIncrease your knowledge about loneliness by taking the Let’s End Loneliness training \n  \n 
URL:https://aging.idaho.gov/event/may-is-older-americans-month-communities-of-strength/
END:VEVENT
BEGIN:VEVENT
DTSTART;TZID=UTC:20210520T080000
DTEND;TZID=UTC:20210731T170000
DTSTAMP:20210728T033247
CREATED:20210520T210033Z
LAST-MODIFIED:20210520T210033Z
UID:7766-1621497600-1627750800@aging.idaho.gov
SUMMARY:Find a COVID Vaccine
DESCRIPTION:More than 60% of American adults have received their first #COVID19 vaccine. Do your part to help defeat this virus so we can get back to spending time with the ones we love. #WeCanDoThis\n🔍 Search http://vaccines.gov\n💬 Text your ZIP code to 438829\n📞 Call 1-800-232-0233
URL:https://aging.idaho.gov/event/find-a-covid-vaccine/
END:VEVENT
BEGIN:VEVENT
DTSTART;TZID=UTC:20210521T080000
DTEND;TZID=UTC:20210521T170000
DTSTAMP:20210728T033247
CREATED:20210512T175552Z
LAST-MODIFIED:20210512T175552Z
UID:7722-1621584000-1621616400@aging.idaho.gov
SUMMARY:Global Accessibility Awareness Day (GAAD)
DESCRIPTION:  \nGlobal Accessibility Awareness Day (GAAD) is an awareness day focusing on digital access and inclusion for the more than one billion people with disabilities and impairments. View our GAAD page for more information\, resources and events..
URL:https://aging.idaho.gov/event/global-accessibility-awareness-day-gaad/
END:VEVENT
BEGIN:VEVENT
DTSTART;TZID=UTC:20210524T080000
DTEND;TZID=UTC:20210524T170000
DTSTAMP:20210728T033247
CREATED:20210601T161943Z
LAST-MODIFIED:20210524T163605Z
UID:7785-1621843200-1621875600@aging.idaho.gov
SUMMARY:Diabetes Self-Management Workshop (DSMP)
DESCRIPTION:Diabetes Self-Management Workshop \nSAMPLE
URL:https://aging.idaho.gov/event/diabetes-self-management-workshop-dsmp/
CATEGORIES:Chronic Pain Self-Management Workshop (CPSMP),Diabetes Self-Management Workshop (DSMP),Disease Prevention & Health Promotion Title IIID Workshops (DPHP_)
END:VEVENT
BEGIN:VEVENT
DTSTART;TZID=UTC:20210601T080000
DTEND;TZID=UTC:20210630T170000
DTSTAMP:20210728T033247
CREATED:20210520T202208Z
LAST-MODIFIED:20210520T202208Z
UID:7764-1622534400-1625072400@aging.idaho.gov
SUMMARY:Elder Abuse Awareness Month
DESCRIPTION:
URL:https://aging.idaho.gov/event/elder-abuse-awareness-month/
END:VEVENT
BEGIN:VEVENT
DTSTART;VALUE=DATE:20210615
DTEND;VALUE=DATE:20210616
DTSTAMP:20210728T033247
CREATED:20210520T202003Z
LAST-MODIFIED:20210525T185849Z
UID:7762-1623715200-1623801599@aging.idaho.gov
SUMMARY:World Elder Abuse Awareness Day
DESCRIPTION:
URL:https://aging.idaho.gov/event/world-elder-abuse-awareness-day/
CATEGORIES:Elder Abuse Awareness Month
END:VEVENT
BEGIN:VEVENT
DTSTART;TZID=UTC:20210713T103000
DTEND;TZID=UTC:20210713T120000
DTSTAMP:20210728T033247
CREATED:20210709T222456Z
LAST-MODIFIED:20210709T223929Z
UID:7901-1626172200-1626177600@aging.idaho.gov
SUMMARY:Powerful Tools for Caregivers
DESCRIPTION:A 6-part workshop series\, designed to help family caregivers find balance while caring for a loved on. Call 208 947-4283 or email:  kkouba@jannus.org
URL:https://aging.idaho.gov/event/powerful-tools-for-caregivers-2/2021-07-13/
END:VEVENT
BEGIN:VEVENT
DTSTART;TZID=UTC:20210719T080000
DTEND;TZID=UTC:20210719T170000
DTSTAMP:20210728T033247
CREATED:20210719T174613Z
LAST-MODIFIED:20210719T174613Z
UID:7959-1626681600-1626714000@aging.idaho.gov
SUMMARY:Honoring Elder Rights by Avoiding Guardianship
DESCRIPTION:Follow us on Facebook and Twitter to learn ways to avoid guardianship by utilizing other methods of monitoring and controlling an older persons finances and accounts if it becomes necessary.
URL:https://aging.idaho.gov/event/honoring-elder-rights-by-avoiding-guardianship/
CATEGORIES:Elder Justice
END:VEVENT
BEGIN:VEVENT
DTSTART;TZID=UTC:20210720T103000
DTEND;TZID=UTC:20210720T120000
DTSTAMP:20210728T033247
CREATED:20210709T222456Z
LAST-MODIFIED:20210709T223930Z
UID:7903-1626777000-1626782400@aging.idaho.gov
SUMMARY:Powerful Tools for Caregivers
DESCRIPTION:A 6-part workshop series\, designed to help family caregivers find balance while caring for a loved on. Call 208 947-4283 or email:  kkouba@jannus.org
URL:https://aging.idaho.gov/event/powerful-tools-for-caregivers-2/2021-07-20/
END:VEVENT
BEGIN:VEVENT
DTSTART;TZID=UTC:20210727T103000
DTEND;TZID=UTC:20210727T120000
DTSTAMP:20210728T033247
CREATED:20210709T222456Z
LAST-MODIFIED:20210709T223930Z
UID:7904-1627381800-1627387200@aging.idaho.gov
SUMMARY:Powerful Tools for Caregivers
DESCRIPTION:A 6-part workshop series\, designed to help family caregivers find balance while caring for a loved on. Call 208 947-4283 or email:  kkouba@jannus.org
URL:https://aging.idaho.gov/event/powerful-tools-for-caregivers-2/2021-07-27/
END:VEVENT
BEGIN:VEVENT
DTSTART;TZID=UTC:20210803T090000
DTEND;TZID=UTC:20210803T230000
DTSTAMP:20210728T033247
CREATED:20210708T183515Z
LAST-MODIFIED:20210708T183550Z
UID:7885-1627981200-1628031600@aging.idaho.gov
SUMMARY:Powerful Tools for Caregivers
DESCRIPTION:Please join us for the virtual Powerful Tools for Caregivers Class
URL:https://aging.idaho.gov/event/powerful-tools-for-caregivers/2021-08-03/
LOCATION:Powerful Tools for Caregivers
ORGANIZER;CN="Marcus%20Ortiz":MAILTO:m.ortiz@cap4action.org
END:VEVENT
BEGIN:VEVENT
DTSTART;TZID=UTC:20210810T090000
DTEND;TZID=UTC:20210810T230000
DTSTAMP:20210728T033247
CREATED:20210708T183515Z
LAST-MODIFIED:20210708T183550Z
UID:7889-1628586000-1628636400@aging.idaho.gov
SUMMARY:Powerful Tools for Caregivers
DESCRIPTION:Please join us for the virtual Powerful Tools for Caregivers Class
URL:https://aging.idaho.gov/event/powerful-tools-for-caregivers/2021-08-10/
LOCATION:Powerful Tools for Caregivers
ORGANIZER;CN="Marcus%20Ortiz":MAILTO:m.ortiz@cap4action.org
END:VEVENT
BEGIN:VEVENT
DTSTART;TZID=UTC:20210811T103000
DTEND;TZID=UTC:20210811T120000
DTSTAMP:20210728T033247
CREATED:20210709T222456Z
LAST-MODIFIED:20210719T235601Z
UID:7905-1628677800-1628683200@aging.idaho.gov
SUMMARY:Powerful Tools for Caregivers
DESCRIPTION:A 6-part workshop series\, designed to help family caregivers find balance while caring for a loved on. Call 208 947-4283 or email:  kkouba@jannus.org \nLink to Register Here
URL:https://aging.idaho.gov/event/powerful-tools-for-caregivers-2-2021-08-03/2021-08-11/
LOCATION:Terrace Home Health\, 2929 W. Navigator Dr. Ste 310\, Meridian\, Idaho\, 83642
END:VEVENT
BEGIN:VEVENT
DTSTART;TZID=UTC:20210817T090000
DTEND;TZID=UTC:20210817T230000
DTSTAMP:20210728T033247
CREATED:20210708T183515Z
LAST-MODIFIED:20210708T183550Z
UID:7890-1629190800-1629241200@aging.idaho.gov
SUMMARY:Powerful Tools for Caregivers
DESCRIPTION:Please join us for the virtual Powerful Tools for Caregivers Class
URL:https://aging.idaho.gov/event/powerful-tools-for-caregivers/2021-08-17/
LOCATION:Powerful Tools for Caregivers
ORGANIZER;CN="Marcus%20Ortiz":MAILTO:m.ortiz@cap4action.org
END:VEVENT
BEGIN:VEVENT
DTSTART;TZID=UTC:20210818T103000
DTEND;TZID=UTC:20210818T120000
DTSTAMP:20210728T033247
CREATED:20210709T222456Z
LAST-MODIFIED:20210719T235601Z
UID:7988-1629282600-1629288000@aging.idaho.gov
SUMMARY:Powerful Tools for Caregivers
DESCRIPTION:A 6-part workshop series\, designed to help family caregivers find balance while caring for a loved on. Call 208 947-4283 or email:  kkouba@jannus.org \nLink to Register Here
URL:https://aging.idaho.gov/event/powerful-tools-for-caregivers-2-2021-08-03/2021-08-18/
LOCATION:Terrace Home Health\, 2929 W. Navigator Dr. Ste 310\, Meridian\, Idaho\, 83642
END:VEVENT
BEGIN:VEVENT
DTSTART;TZID=UTC:20210824T090000
DTEND;TZID=UTC:20210824T230000
DTSTAMP:20210728T033247
CREATED:20210708T183515Z
LAST-MODIFIED:20210708T183551Z
UID:7891-1629795600-1629846000@aging.idaho.gov
SUMMARY:Powerful Tools for Caregivers
DESCRIPTION:Please join us for the virtual Powerful Tools for Caregivers Class
URL:https://aging.idaho.gov/event/powerful-tools-for-caregivers/2021-08-24/
LOCATION:Powerful Tools for Caregivers
ORGANIZER;CN="Marcus%20Ortiz":MAILTO:m.ortiz@cap4action.org
END:VEVENT
BEGIN:VEVENT
DTSTART;TZID=UTC:20210825T103000
DTEND;TZID=UTC:20210825T120000
DTSTAMP:20210728T033247
CREATED:20210709T222456Z
LAST-MODIFIED:20210719T235602Z
UID:7989-1629887400-1629892800@aging.idaho.gov
SUMMARY:Powerful Tools for Caregivers
DESCRIPTION:A 6-part workshop series\, designed to help family caregivers find balance while caring for a loved on. Call 208 947-4283 or email:  kkouba@jannus.org \nLink to Register Here
URL:https://aging.idaho.gov/event/powerful-tools-for-caregivers-2-2021-08-03/2021-08-25/
LOCATION:Terrace Home Health\, 2929 W. Navigator Dr. Ste 310\, Meridian\, Idaho\, 83642
END:VEVENT
BEGIN:VEVENT
DTSTART;TZID=UTC:20210831T090000
DTEND;TZID=UTC:20210831T230000
DTSTAMP:20210728T033247
CREATED:20210708T183515Z
LAST-MODIFIED:20210708T183551Z
UID:7892-1630400400-1630450800@aging.idaho.gov
SUMMARY:Powerful Tools for Caregivers
DESCRIPTION:Please join us for the virtual Powerful Tools for Caregivers Class
URL:https://aging.idaho.gov/event/powerful-tools-for-caregivers/2021-08-31/
LOCATION:Powerful Tools for Caregivers
ORGANIZER;CN="Marcus%20Ortiz":MAILTO:m.ortiz@cap4action.org
END:VEVENT
BEGIN:VEVENT
DTSTART;TZID=UTC:20210901T103000
DTEND;TZID=UTC:20210901T120000
DTSTAMP:20210728T033247
CREATED:20210709T222456Z
LAST-MODIFIED:20210719T235602Z
UID:7990-1630492200-1630497600@aging.idaho.gov
SUMMARY:Powerful Tools for Caregivers
DESCRIPTION:A 6-part workshop series\, designed to help family caregivers find balance while caring for a loved on. Call 208 947-4283 or email:  kkouba@jannus.org \nLink to Register Here
URL:https://aging.idaho.gov/event/powerful-tools-for-caregivers-2-2021-08-03/2021-09-01/
LOCATION:Terrace Home Health\, 2929 W. Navigator Dr. Ste 310\, Meridian\, Idaho\, 83642
END:VEVENT
BEGIN:VEVENT
DTSTART;TZID=UTC:20210907T090000
DTEND;TZID=UTC:20210907T230000
DTSTAMP:20210728T033247
CREATED:20210708T183515Z
LAST-MODIFIED:20210708T183551Z
UID:7893-1631005200-1631055600@aging.idaho.gov
SUMMARY:Powerful Tools for Caregivers
DESCRIPTION:Please join us for the virtual Powerful Tools for Caregivers Class
URL:https://aging.idaho.gov/event/powerful-tools-for-caregivers/2021-09-07/
LOCATION:Powerful Tools for Caregivers
ORGANIZER;CN="Marcus%20Ortiz":MAILTO:m.ortiz@cap4action.org
END:VEVENT
BEGIN:VEVENT
DTSTART;TZID=UTC:20210908T103000
DTEND;TZID=UTC:20210908T120000
DTSTAMP:20210728T033247
CREATED:20210709T222456Z
LAST-MODIFIED:20210719T235603Z
UID:7991-1631097000-1631102400@aging.idaho.gov
SUMMARY:Powerful Tools for Caregivers
DESCRIPTION:A 6-part workshop series\, designed to help family caregivers find balance while caring for a loved on. Call 208 947-4283 or email:  kkouba@jannus.org \nLink to Register Here
URL:https://aging.idaho.gov/event/powerful-tools-for-caregivers-2-2021-08-03/2021-09-08/
LOCATION:Terrace Home Health\, 2929 W. Navigator Dr. Ste 310\, Meridian\, Idaho\, 83642
END:VEVENT
BEGIN:VEVENT
DTSTART;TZID=UTC:20210915T103000
DTEND;TZID=UTC:20210915T120000
DTSTAMP:20210728T033247
CREATED:20210709T222456Z
LAST-MODIFIED:20210719T235603Z
UID:7992-1631701800-1631707200@aging.idaho.gov
SUMMARY:Powerful Tools for Caregivers
DESCRIPTION:A 6-part workshop series\, designed to help family caregivers find balance while caring for a loved on. Call 208 947-4283 or email:  kkouba@jannus.org \nLink to Register Here
URL:https://aging.idaho.gov/event/powerful-tools-for-caregivers-2-2021-08-03/2021-09-15/
LOCATION:Terrace Home Health\, 2929 W. Navigator Dr. Ste 310\, Meridian\, Idaho\, 83642
END:VEVENT
END:VCALENDAR